{
 "currentVersion": 11.3,
 "cimVersion": "3.3.0",
 "serviceDescription": "Bedrock geology for Pennsylvania. Dataset is maintained by the Pennsylvania Department of Conservation and Natural Resources.\n\nThe credit for the digital work and GIS processing (i.e., scanning, georeferencing, digitizing, attributing, proofing,\nand other related work). Of the names listed, J. G. Kuchinski, C. E. Miles, and T. G. Whitfield are staff members of the\nPennsylvania Geological Survey. The remaining names are those of student interns who worked for the Survey during the\nsummer months. Please refer to \"Data-Set_Credits\" in the \"Identification_Information\" section of the metadata for credits that\npertain to general digital work for the entire data set (i.e., credits that are not quadrangle specific).",
 "mapName": "Layers",
 "description": "Bedrock geology for Pennsylvania. Dataset is maintained by the Pennsylvania Department of Conservation and Natural Resources.\n\nThe credit for the digital work and GIS processing (i.e., scanning, georeferencing, digitizing, attributing, proofing,\nand other related work). Of the names listed, J. G. Kuchinski, C. E. Miles, and T. G. Whitfield are staff members of the\nPennsylvania Geological Survey. The remaining names are those of student interns who worked for the Survey during the\nsummer months. Please refer to \"Data-Set_Credits\" in the \"Identification_Information\" section of the metadata for credits that\npertain to general digital work for the entire data set (i.e., credits that are not quadrangle specific).",
 "copyrightText": "DCNR",
 "supportsDynamicLayers": true,
 "layers": [
  {
   "id": 0,
   "name": "Dikes (DCNR)",
   "parentLayerId": -1,
   "defaultVisibility": true,
   "subLayerIds": null,
   "minScale": 300000,
   "maxScale": 24000,
   "type": "Feature Layer",
   "geometryType": "esriGeometryPolyline",
   "supportsDynamicLegends": true
  },
  {
   "id": 1,
   "name": "Bedrock Geology (DCNR)",
   "parentLayerId": -1,
   "defaultVisibility": true,
   "subLayerIds": null,
   "minScale": 300000,
   "maxScale": 24000,
   "type": "Feature Layer",
   "geometryType": "esriGeometryPolygon",
   "supportsDynamicLegends": true
  }
 ],
 "tables": [],
 "spatialReference": {
  "wkid": 102729,
  "latestWkid": 2272,
  "xyTolerance": 0.003280833333333333,
  "zTolerance": 0.001,
  "mTolerance": 0.001,
  "falseX": -119214200,
  "falseY": -96198500,
  "xyUnits": 3.716371748913413E7,
  "falseZ": -100000,
  "zUnits": 10000,
  "falseM": -100000,
  "mUnits": 10000
 },
 "singleFusedMapCache": true,
 "tileInfo": {
  "rows": 256,
  "cols": 256,
  "dpi": 96,
  "format": "MIXED",
  "compressionQuality": 75,
  "origin": {
   "x": -119214200,
   "y": 146166900
  },
  "spatialReference": {
   "wkid": 102729,
   "latestWkid": 2272,
   "xyTolerance": 0.0010392084338855944,
   "zTolerance": 2,
   "mTolerance": 2,
   "falseX": -119214200,
   "falseY": -96198500,
   "xyUnits": 3.716371748913413E7,
   "falseZ": 0,
   "zUnits": 1,
   "falseM": -100000,
   "mUnits": 10000
  },
  "lods": [
   {
    "level": 0,
    "resolution": 260.41666666666663,
    "scale": 300000
   },
   {
    "level": 1,
    "resolution": 86.80555555555556,
    "scale": 100000
   },
   {
    "level": 2,
    "resolution": 43.40277777777778,
    "scale": 50000
   },
   {
    "level": 3,
    "resolution": 20.833333333333332,
    "scale": 24000
   },
   {
    "level": 4,
    "resolution": 10.416666666666666,
    "scale": 12000
   },
   {
    "level": 5,
    "resolution": 6.944444444444444,
    "scale": 8000
   },
   {
    "level": 6,
    "resolution": 4.166666666666666,
    "scale": 4800
   },
   {
    "level": 7,
    "resolution": 2.083333333333333,
    "scale": 2400
   },
   {
    "level": 8,
    "resolution": 1.0416666666666665,
    "scale": 1200
   },
   {
    "level": 9,
    "resolution": 0.5208333333333333,
    "scale": 600
   }
  ]
 },
 "storageInfo": {
  "storageFormat": "esriMapCacheStorageModeCompactV2",
  "packetSize": 128
 },
 "initialExtent": {
  "xmin": 2034047.328665984,
  "ymin": 227193.74653077367,
  "xmax": 2186911.9119993174,
  "ymax": 361829.1631974403,
  "spatialReference": {
   "wkid": 102729,
   "latestWkid": 2272,
   "xyTolerance": 0.003280833333333333,
   "zTolerance": 0.001,
   "mTolerance": 0.001,
   "falseX": -119214200,
   "falseY": -96198500,
   "xyUnits": 3.716371748913413E7,
   "falseZ": -100000,
   "zUnits": 10000,
   "falseM": -100000,
   "mUnits": 10000
  }
 },
 "fullExtent": {
  "xmin": 1899719.101882415,
  "ymin": 141329.03664648105,
  "xmax": 2708032.6057274425,
  "ymax": 617025.9066841359,
  "spatialReference": {
   "wkid": 102729,
   "latestWkid": 2272,
   "xyTolerance": 0.003280833333333333,
   "zTolerance": 0.001,
   "mTolerance": 0.001,
   "falseX": -119214200,
   "falseY": -96198500,
   "xyUnits": 3.716371748913413E7,
   "falseZ": -100000,
   "zUnits": 10000,
   "falseM": -100000,
   "mUnits": 10000
  }
 },
 "datesInUnknownTimezone": false,
 "minScale": 300000,
 "maxScale": 24000,
 "minLOD": 0,
 "maxLOD": 3,
 "units": "esriFeet",
 "supportedImageFormatTypes": "PNG32,PNG24,PNG,JPG,DIB,TIFF,EMF,PS,PDF,GIF,SVG,SVGZ,BMP",
 "documentInfo": {
  "Title": "Untitled.aprx",
  "Author": "",
  "Comments": "Bedrock geology for Pennsylvania. Dataset is maintained by the Pennsylvania Department of Conservation and Natural Resources.\n\nThe credit for the digital work and GIS processing (i.e., scanning, georeferencing, digitizing, attributing, proofing,\nand other related work). Of the names listed, J. G. Kuchinski, C. E. Miles, and T. G. Whitfield are staff members of the\nPennsylvania Geological Survey. The remaining names are those of student interns who worked for the Survey during the\nsummer months. Please refer to \"Data-Set_Credits\" in the \"Identification_Information\" section of the metadata for credits that\npertain to general digital work for the entire data set (i.e., credits that are not quadrangle specific).",
  "Subject": "",
  "Category": "",
  "Version": "2.4.0",
  "AntialiasingMode": "Fast",
  "TextAntialiasingMode": "Force",
  "Keywords": "Bedrock_Geology,MapServer"
 },
 "supportsQueryDomains": true,
 "capabilities": "Map,Query,Data",
 "supportedQueryFormats": "JSON, geoJSON, PBF",
 "exportTilesAllowed": false,
 "referenceScale": 0.0,
 "supportsDatumTransformation": true,
 "archivingInfo": {
  "supportsHistoricMoment": false
 },
 "supportsClipping": true,
 "supportsSpatialFilter": true,
 "supportsTimeRelation": true,
 "supportsQueryDataElements": true,
 "mapUnits": {
  "uwkid": 9003
 },
 "maxRecordCount": 2000,
 "maxImageHeight": 4096,
 "maxImageWidth": 4096,
 "supportedExtensions": "",
 "serviceItemId": "e5a538569f534d1681b9ea9a401ff5a0"
}
