{
 "currentVersion": 11.3,
 "cimVersion": "3.3.0",
 "serviceDescription": "",
 "mapName": "Layers",
 "description": "",
 "copyrightText": "USDA NRCS, Cumberland County",
 "supportsDynamicLayers": true,
 "layers": [
  {
   "id": 0,
   "name": "Major Roads",
   "parentLayerId": -1,
   "defaultVisibility": true,
   "subLayerIds": null,
   "minScale": 300000,
   "maxScale": 60000,
   "type": "Feature Layer",
   "geometryType": "esriGeometryPolyline",
   "supportsDynamicLegends": true
  },
  {
   "id": 1,
   "name": "Roads",
   "parentLayerId": -1,
   "defaultVisibility": true,
   "subLayerIds": null,
   "minScale": 60000,
   "maxScale": 0,
   "type": "Feature Layer",
   "geometryType": "esriGeometryPolyline",
   "supportsDynamicLegends": true
  },
  {
   "id": 2,
   "name": "Hydrology",
   "parentLayerId": -1,
   "defaultVisibility": true,
   "subLayerIds": [
    3,
    4,
    5
   ],
   "minScale": 0,
   "maxScale": 0,
   "type": "Group Layer",
   "supportsDynamicLegends": false
  },
  {
   "id": 3,
   "name": "Minor Hydro",
   "parentLayerId": 2,
   "defaultVisibility": true,
   "subLayerIds": null,
   "minScale": 100000,
   "maxScale": 0,
   "type": "Feature Layer",
   "geometryType": "esriGeometryPolyline",
   "supportsDynamicLegends": true
  },
  {
   "id": 4,
   "name": "Major Hydro",
   "parentLayerId": 2,
   "defaultVisibility": true,
   "subLayerIds": null,
   "minScale": 300000,
   "maxScale": 0,
   "type": "Feature Layer",
   "geometryType": "esriGeometryPolygon",
   "supportsDynamicLegends": true
  },
  {
   "id": 5,
   "name": "Water Bodies",
   "parentLayerId": 2,
   "defaultVisibility": true,
   "subLayerIds": null,
   "minScale": 100000,
   "maxScale": 0,
   "type": "Feature Layer",
   "geometryType": "esriGeometryPolygon",
   "supportsDynamicLegends": true
  },
  {
   "id": 6,
   "name": "Municipality",
   "parentLayerId": -1,
   "defaultVisibility": true,
   "subLayerIds": null,
   "minScale": 300000,
   "maxScale": 24000,
   "type": "Feature Layer",
   "geometryType": "esriGeometryPolygon",
   "supportsDynamicLegends": true
  }
 ],
 "tables": [],
 "spatialReference": {
  "wkid": 102729,
  "latestWkid": 2272,
  "xyTolerance": 0.003280833333333333,
  "zTolerance": 2,
  "mTolerance": 0.001,
  "falseX": -119214200,
  "falseY": -96198500,
  "xyUnits": 3.716371748913413E7,
  "falseZ": 0,
  "zUnits": 1,
  "falseM": -100000,
  "mUnits": 10000
 },
 "singleFusedMapCache": true,
 "tileInfo": {
  "rows": 256,
  "cols": 256,
  "dpi": 96,
  "format": "MIXED",
  "compressionQuality": 75,
  "origin": {
   "x": -119214200,
   "y": 146166900
  },
  "spatialReference": {
   "wkid": 102729,
   "latestWkid": 2272,
   "xyTolerance": 0.0010392084338855944,
   "zTolerance": 2,
   "mTolerance": 2,
   "falseX": -119214200,
   "falseY": -96198500,
   "xyUnits": 3.716371748913413E7,
   "falseZ": 0,
   "zUnits": 1,
   "falseM": -100000,
   "mUnits": 10000
  },
  "lods": [
   {
    "level": 0,
    "resolution": 260.41666666666663,
    "scale": 300000
   },
   {
    "level": 1,
    "resolution": 86.80555555555556,
    "scale": 100000
   },
   {
    "level": 2,
    "resolution": 43.40277777777778,
    "scale": 50000
   },
   {
    "level": 3,
    "resolution": 20.833333333333332,
    "scale": 24000
   },
   {
    "level": 4,
    "resolution": 10.416666666666666,
    "scale": 12000
   },
   {
    "level": 5,
    "resolution": 6.944444444444444,
    "scale": 8000
   },
   {
    "level": 6,
    "resolution": 4.166666666666666,
    "scale": 4800
   },
   {
    "level": 7,
    "resolution": 2.083333333333333,
    "scale": 2400
   },
   {
    "level": 8,
    "resolution": 1.0416666666666665,
    "scale": 1200
   },
   {
    "level": 9,
    "resolution": 0.5208333333333333,
    "scale": 600
   }
  ]
 },
 "storageInfo": {
  "storageFormat": "esriMapCacheStorageModeCompactV2",
  "packetSize": 128
 },
 "initialExtent": {
  "xmin": 2047023.8966134493,
  "ymin": 224041.45179585702,
  "xmax": 2200023.8966134493,
  "ymax": 352208.1184625237,
  "spatialReference": {
   "wkid": 102729,
   "latestWkid": 2272,
   "xyTolerance": 0.003280833333333333,
   "zTolerance": 2,
   "mTolerance": 0.001,
   "falseX": -119214200,
   "falseY": -96198500,
   "xyUnits": 3.716371748913413E7,
   "falseZ": 0,
   "zUnits": 1,
   "falseM": -100000,
   "mUnits": 10000
  }
 },
 "fullExtent": {
  "xmin": 1977998.4357726302,
  "ymin": 185158.7662733963,
  "xmax": 2247008.852439297,
  "ymax": 404950.43294006295,
  "spatialReference": {
   "wkid": 102729,
   "latestWkid": 2272,
   "xyTolerance": 0.003280833333333333,
   "zTolerance": 2,
   "mTolerance": 0.001,
   "falseX": -119214200,
   "falseY": -96198500,
   "xyUnits": 3.716371748913413E7,
   "falseZ": 0,
   "zUnits": 1,
   "falseM": -100000,
   "mUnits": 10000
  }
 },
 "datesInUnknownTimezone": false,
 "minScale": 300000,
 "maxScale": 600,
 "minLOD": 0,
 "maxLOD": 9,
 "units": "esriFeet",
 "supportedImageFormatTypes": "PNG32,PNG24,PNG,JPG,DIB,TIFF,EMF,PS,PDF,GIF,SVG,SVGZ,BMP",
 "documentInfo": {
  "Title": "Untitled.aprx",
  "Author": "",
  "Comments": "",
  "Subject": "Soils non-irrigated capability class for Cumberland County, Pennsylvania. Reference features such as hydrography and roads are shown as well.",
  "Category": "",
  "Version": "2.4.0",
  "AntialiasingMode": "Fast",
  "TextAntialiasingMode": "Force",
  "Keywords": "Soils_Basemap,MapServer"
 },
 "supportsQueryDomains": true,
 "capabilities": "Map,Query,Data",
 "supportedQueryFormats": "JSON, geoJSON, PBF",
 "hasVersionedData": true,
 "exportTilesAllowed": false,
 "referenceScale": 0.0,
 "datumTransformations": [
  {
   "geoTransforms": [
    {
     "wkid": 108190,
     "latestWkid": 108190,
     "transformForward": true,
     "name": "WGS_1984_(ITRF00)_To_NAD_1983"
    }
   ]
  },
  {
   "geoTransforms": [
    {
     "wkid": 108190,
     "latestWkid": 108190,
     "transformForward": false,
     "name": "WGS_1984_(ITRF00)_To_NAD_1983"
    }
   ]
  }
 ],
 "supportsDatumTransformation": true,
 "archivingInfo": {
  "supportsHistoricMoment": false
 },
 "supportsClipping": true,
 "supportsSpatialFilter": true,
 "supportsTimeRelation": true,
 "supportsQueryDataElements": true,
 "mapUnits": {
  "uwkid": 9003
 },
 "maxRecordCount": 2000,
 "maxImageHeight": 4096,
 "maxImageWidth": 4096,
 "supportedExtensions": "",
 "serviceItemId": "2bb9339d83fc44be8ac810d911df209c"
}
