View In:
ArcGIS JavaScript
ArcGIS Online Map Viewer
ArcGIS Earth
ArcGIS Pro
Service Description: Projected population change for Cumberland County for the period of 2010-2040. Projections were developed by Tri-County Regional Planning Commission. The source of the data is the "Regional Growth Management Plan 2040 Update."
The plan is available at https://static1.squarespace.com/static/56dc3f9cb654f9876576bab7/t/59f0cf942278e7a844c1c502/1508954022229/2040RGMPFullFINALWEB.pdf.
Map Name: Layers
Legend
All Layers and Tables
Dynamic Legend
Dynamic All Layers
Layers:
Tables:
Description: Projected population change for Cumberland County for the period of 2010-2040. Projections were developed by Tri-County Regional Planning Commission. The source of the data is the "Regional Growth Management Plan 2040 Update."
The plan is available at https://static1.squarespace.com/static/56dc3f9cb654f9876576bab7/t/59f0cf942278e7a844c1c502/1508954022229/2040RGMPFullFINALWEB.pdf.
Service Item Id: f4de34560e3147ffb0bd0a43bc8c42cc
Copyright Text: Tri-County Regional Planning Commission (2018)
Spatial Reference:
102100
(3857)
Single Fused Map Cache: true
Tile Info:
- Height: 256
- Width: 256
- DPI: 96
-
Levels of Detail: 24
-
Level ID: 1
[ Start Tile, End Tile ]
- Resolution: 78271.5169639999
- Scale: 2.95828763795777E8
-
Level ID: 2
[ Start Tile, End Tile ]
- Resolution: 39135.7584820001
- Scale: 1.47914381897889E8
-
Level ID: 3
[ Start Tile, End Tile ]
- Resolution: 19567.8792409999
- Scale: 7.3957190948944E7
-
Level ID: 4
[ Start Tile, End Tile ]
- Resolution: 9783.93962049996
- Scale: 3.6978595474472E7
-
Level ID: 5
[ Start Tile, End Tile ]
- Resolution: 4891.96981024998
- Scale: 1.8489297737236E7
- Format: PNG
- Compression Quality: 0.0
- Origin: X: -2.0037508342787E7
Y: 2.0037508342787E7
- Spatial Reference: 102100
(3857)
Storage Info:
- Storage Format: esriMapCacheStorageModeCompactV2
- Packet Size: 128
Initial Extent:
XMin: -8630437.077006962
YMin: 4856534.527195856
XMax: -8566753.885569904
YMax: 4915198.282897622
Spatial Reference: 102100
(3857)
Full Extent:
XMin: -8648898.731165582
YMin: 4843029.487976299
XMax: -8548047.604174396
YMax: 4928647.761653002
Spatial Reference: 102100
(3857)
Units: esriMeters
Supported Image Format Types: PNG32,PNG24,PNG,JPG,DIB,TIFF,EMF,PS,PDF,GIF,SVG,SVGZ,BMP
Document Info:
Title: Untitled.aprx
Author:
Comments: Projected population change for Cumberland County for the period of 2010-2040. Projections were developed by Tri-County Regional Planning Commission. The source of the data is the "Regional Growth Management Plan 2040 Update."
The plan is available at https://static1.squarespace.com/static/56dc3f9cb654f9876576bab7/t/59f0cf942278e7a844c1c502/1508954022229/2040RGMPFullFINALWEB.pdf.
Subject: Projected population change for Cumberland County for the period of 2010-2040. Projections were developed by Tri-County Regional Planning Commission. The source of the data is the "Regional Growth Management Plan 2040 Update."
Category:
Keywords: population growth,population projections,regional growth managment
AntialiasingMode: Fast
TextAntialiasingMode: Force
Supports Dynamic Layers: true
MaxRecordCount: 2000
MaxImageHeight: 4096
MaxImageWidth: 4096
Supported Query Formats: JSON, geoJSON, PBF
Supports Query Data Elements: true
Min Scale: 577790.554289
Max Scale: 1128.497176
Min LOD: 10
Max LOD: 19
Supports Datum Transformation: true
Child Resources:
Info
Dynamic Layer
Supported Operations:
Export Map
Identify
QueryLegends
QueryDomains
Find
Return Updates